BEGIN:VCALENDAR
VERSION:2.0
PRODID:-//eventon.com NONSGML v1.0//EN
CALSCALE:GREGORIAN
METHOD:PUBLISH
BEGIN:VEVENT
UID:69ea35a38de86
DTSTAMP:20260423T150715Z
DTSTART:20240410T193000Z
DTEND:20240410T215900Z
LOCATION:Bicocca Stadium Viale Sarca 205\,  Milano\,  20126
SUMMARY:CATTOLICA vs SAN RAFFAELE
DESCRIPTION:Cattolica ospita San Raffaele con l&#8217;obiettivo di consolid
 are la posizione in classifica.\nhttps://www.cusmilano.it/events/c11_cattol
 ica-vs-san-raffaele/
URL:https://www.cusmilano.it/events/c11_cattolica-vs-san-raffaele/
END:VEVENT
END:VCALENDAR