BEGIN:VCALENDAR
VERSION:2.0
PRODID:-//eventon.com NONSGML v1.0//EN
CALSCALE:GREGORIAN
METHOD:PUBLISH
BEGIN:VEVENT
UID:69e5aee66f6d0
DTSTAMP:20260420T044318Z
DTSTART:20260510
DTEND:20260511
LOCATION:PalaCUS Idroscalo Via Circonvallazione Est Idroscalo 11
SUMMARY:STAISANO! RUN
DESCRIPTION:Torna all&#8217;Idroscalo la StaiSano Run de La Statale!\nhttps
 ://www.cusmilano.it/events/staisano-run/
URL:https://www.cusmilano.it/events/staisano-run/
END:VEVENT
END:VCALENDAR