BEGIN:VCALENDAR
VERSION:2.0
PRODID:-//eventon.com NONSGML v1.0//EN
CALSCALE:GREGORIAN
METHOD:PUBLISH
BEGIN:VEVENT
UID:69e5af1abf77d
DTSTAMP:20260420T044410Z
DTSTART:20260417T070000Z
DTEND:20260417T215900Z
LOCATION:Centro Sportivo Scarioni Via Tucidide\,  10\,  20134 Milano MI
SUMMARY:STATALE PADEL CUP
DESCRIPTION:La seconda edizione primaverile\nhttps://www.cusmilano.it/event
 s/statale-padel-cup/
URL:https://www.cusmilano.it/events/statale-padel-cup/
END:VEVENT
END:VCALENDAR