BEGIN:VCALENDAR
VERSION:2.0
PRODID:-//eventon.com NONSGML v1.0//EN
CALSCALE:GREGORIAN
METHOD:PUBLISH
BEGIN:VEVENT
UID:69e5aebc65092
DTSTAMP:20260420T044236Z
DTSTART:20260415T100000Z
DTEND:20260415T215900Z
LOCATION:IULM SPORT
SUMMARY:IULM SPORT DAY
DESCRIPTION:Tornei e novità sulle attività di primavera con IULM Sport\nh
 ttps://www.cusmilano.it/events/iulm-sport-day/
URL:https://www.cusmilano.it/events/iulm-sport-day/
END:VEVENT
END:VCALENDAR